BEGIN:VCALENDAR
VERSION:2.0
PRODID:-//stagingindexdubai.wpress.dk//NONSGML INDEX//EN
METHOD:REQUEST
BEGIN:VEVENT
UID:20260422T095415-1677847324-calendar_event
DTSTAMP:20260422T095415Z
DTSTART:20230523T100000
DTEND:20230525T180000
LOCATION:Dubai World Trade Centre
SUMMARY:INDEX
DESCRIPTION:23 -25 May 2023 | INDEX International Interiors Exhibition. The meeting place for the interior design and fit-out industry. Discover the latest trends and products in the world of interior design. Meet top industry professionals and connect with leading companies showcasing their innovative products.
BEGIN:VALARM
TRIGGER:PT1W
ACTION:DISPLAY
DESCRIPTION:Reminder
END:VALARM
END:VEVENT
END:VCALENDAR
